BEGIN:VCALENDAR
VERSION:2.0
PRODID:-//Aula Verlag - ECPv4.9.5//NONSGML v1.0//EN
CALSCALE:GREGORIAN
METHOD:PUBLISH
X-WR-CALNAME:Aula Verlag
X-ORIGINAL-URL:https://www.aula-verlag.de
X-WR-CALDESC:Veranstaltungen im Aula Verlag
BEGIN:VTIMEZONE
TZID:"Europe/Berlin"
BEGIN:DAYLIGHT
TZOFFSETFROM:+0100
TZOFFSETTO:+0200
TZNAME:CEST
DTSTART:20230326T010000
END:DAYLIGHT
BEGIN:STANDARD
TZOFFSETFROM:+0200
TZOFFSETTO:+0100
TZNAME:CET
DTSTART:20231029T010000
END:STANDARD
END:VTIMEZONE
BEGIN:VEVENT
DTSTART;VALUE=DATE:20230812
DTEND;VALUE=DATE:20230813
DTSTAMP:20260421T083621
CREATED:20230515T105713Z
LAST-MODIFIED:20230515T105713Z
UID:2759-1691798400-1691884799@www.aula-verlag.de
SUMMARY:Tag der offenen Tür Kiesgrube Zschepplin
DESCRIPTION:Am 12. August findet zum zweiten Mal der Tag der offenen Tür statt. Auch der AULA-Verlag ist mit einem Büchertisch dabei. Kommt gerne vorbei und informiert euch über unser vielfältiges Buchprogramm. \n
URL:https://www.aula-verlag.de/event/tag-der-offenen-tuer-kiesgrube-zschepplin/
LOCATION:Zschepplin\, Deutschland
ATTACH;FMTTYPE=image/jpeg:https://www.aula-verlag.de/wp-content/uploads/2018/09/1525R-79880.jpg
END:VEVENT
END:VCALENDAR