BEGIN:VCALENDAR
VERSION:2.0
PRODID:-//Aula Verlag - ECPv4.9.5//NONSGML v1.0//EN
CALSCALE:GREGORIAN
METHOD:PUBLISH
X-WR-CALNAME:Aula Verlag
X-ORIGINAL-URL:https://www.aula-verlag.de
X-WR-CALDESC:Veranstaltungen im Aula Verlag
BEGIN:VTIMEZONE
TZID:"Europe/Berlin"
BEGIN:DAYLIGHT
TZOFFSETFROM:+0100
TZOFFSETTO:+0200
TZNAME:CEST
DTSTART:20180325T010000
END:DAYLIGHT
BEGIN:STANDARD
TZOFFSETFROM:+0200
TZOFFSETTO:+0100
TZNAME:CET
DTSTART:20181028T010000
END:STANDARD
END:VTIMEZONE
BEGIN:VEVENT
DTSTART;VALUE=DATE:20180916
DTEND;VALUE=DATE:20180917
DTSTAMP:20260419T125058
CREATED:20180823T134843Z
LAST-MODIFIED:20180823T134843Z
UID:2327-1537056000-1537142399@www.aula-verlag.de
SUMMARY:Soonwalderlebnistag "Wald bewegt"
DESCRIPTION:Am 16. September 2018 findet im Rahmen der Deutschen Waldtage der Soonwalderlebnistag „Wald bewegt“ statt. Auch der AULA- Verlag ist mit einem Büchertisch vor Ort. Kommen Sie vorbei\, stöbern Sie in unserem Buchprogramm. Wir freuen uns auf Sie! \n
URL:https://www.aula-verlag.de/event/soonwalderlebnistag-wald-bewegt/
LOCATION:Neupfalz\, Walderlebniszentrum Soonwald\, Deutschland
ATTACH;FMTTYPE=image/jpeg:https://www.aula-verlag.de/wp-content/uploads/2018/08/1525R-79906.jpg
END:VEVENT
END:VCALENDAR