BEGIN:VCALENDAR
VERSION:2.0
PRODID:-//Aula Verlag - ECPv4.9.5//NONSGML v1.0//EN
CALSCALE:GREGORIAN
METHOD:PUBLISH
X-WR-CALNAME:Aula Verlag
X-ORIGINAL-URL:https://www.aula-verlag.de
X-WR-CALDESC:Veranstaltungen im Aula Verlag
BEGIN:VTIMEZONE
TZID:"Europe/Berlin"
BEGIN:DAYLIGHT
TZOFFSETFROM:+0100
TZOFFSETTO:+0200
TZNAME:CEST
DTSTART:20250330T010000
END:DAYLIGHT
BEGIN:STANDARD
TZOFFSETFROM:+0200
TZOFFSETTO:+0100
TZNAME:CET
DTSTART:20251026T010000
END:STANDARD
END:VTIMEZONE
BEGIN:VEVENT
DTSTART;VALUE=DATE:20250207
DTEND;VALUE=DATE:20250210
DTSTAMP:20260421T083654
CREATED:20250117T090824Z
LAST-MODIFIED:20250117T090824Z
UID:2896-1738886400-1739145599@www.aula-verlag.de
SUMMARY:Naturgartentage Hagen 2025
DESCRIPTION:Vom 07.-09.02.2025 finden die diesjährigen Naturgartentage in Hagen statt. Auch der AULA-Verlag Verlag ist mit einem Büchertisch vor Ort. \n
URL:https://www.aula-verlag.de/event/naturgartentage-hagen-2025/
LOCATION:Hagen\, Deutschland
ATTACH;FMTTYPE=image/jpeg:https://www.aula-verlag.de/wp-content/uploads/2022/11/Veranstaltungsbild.jpg
END:VEVENT
END:VCALENDAR