BEGIN:VCALENDAR
VERSION:2.0
PRODID:-//Aula Verlag - ECPv4.9.5//NONSGML v1.0//EN
CALSCALE:GREGORIAN
METHOD:PUBLISH
X-WR-CALNAME:Aula Verlag
X-ORIGINAL-URL:https://www.aula-verlag.de
X-WR-CALDESC:Veranstaltungen im Aula Verlag
BEGIN:VTIMEZONE
TZID:"Europe/Berlin"
BEGIN:DAYLIGHT
TZOFFSETFROM:+0100
TZOFFSETTO:+0200
TZNAME:CEST
DTSTART:20180325T010000
END:DAYLIGHT
BEGIN:STANDARD
TZOFFSETFROM:+0200
TZOFFSETTO:+0100
TZNAME:CET
DTSTART:20181028T010000
END:STANDARD
END:VTIMEZONE
BEGIN:VEVENT
DTSTART;VALUE=DATE:20180919
DTEND;VALUE=DATE:20180924
DTSTAMP:20260421T083621
CREATED:20180420T204316Z
LAST-MODIFIED:20180606T115748Z
UID:2181-1537315200-1537747199@www.aula-verlag.de
SUMMARY:DO-G Tagung 2018
DESCRIPTION:Vom 19.-23. September findet die diesjährige DO-G Jahresversammlung in Heidelberg statt. Auch der AULA-Verlag ist mit dabei und präsentiert sein umfangreiches ornithologisches Buchangebot. Kommen Sie vorbei\, wir freuen uns auf Sie! \n
URL:https://www.aula-verlag.de/event/dog-tagung-in-heidelberg/
LOCATION:Heidelberg\, Grabengasse 1\, Heidelberg\, 69117\, Deutschland
ATTACH;FMTTYPE=image/jpeg:https://www.aula-verlag.de/wp-content/uploads/2018/04/INGG0120.jpg
END:VEVENT
END:VCALENDAR