BEGIN:VCALENDAR
VERSION:2.0
PRODID:-//Aula Verlag - ECPv4.9.5//NONSGML v1.0//EN
CALSCALE:GREGORIAN
METHOD:PUBLISH
X-WR-CALNAME:Aula Verlag
X-ORIGINAL-URL:https://www.aula-verlag.de
X-WR-CALDESC:Veranstaltungen im Aula Verlag
BEGIN:VTIMEZONE
TZID:"Europe/Berlin"
BEGIN:DAYLIGHT
TZOFFSETFROM:+0100
TZOFFSETTO:+0200
TZNAME:CEST
DTSTART:20250330T010000
END:DAYLIGHT
BEGIN:STANDARD
TZOFFSETFROM:+0200
TZOFFSETTO:+0100
TZNAME:CET
DTSTART:20251026T010000
END:STANDARD
END:VTIMEZONE
BEGIN:VEVENT
DTSTART;VALUE=DATE:20250917
DTEND;VALUE=DATE:20250922
DTSTAMP:20260421T083437
CREATED:20250624T074430Z
LAST-MODIFIED:20250624T074430Z
UID:2943-1758067200-1758499199@www.aula-verlag.de
SUMMARY:DO-G Jahresversammlung 2025
DESCRIPTION:Vom 17.-21. September findet die diesjährige Jahresversammlung der Deutschen Ornithologischen Gesellschaft statt. Der AULA-Verlag ist mit einem Büchertisch vor Ort und freut sich auf euren Besuch! \n
URL:https://www.aula-verlag.de/event/do-g-jahresversammlung-2025/
LOCATION:Erfurt
ATTACH;FMTTYPE=image/jpeg:https://www.aula-verlag.de/wp-content/uploads/2019/04/bird-3158784_1920.jpg
END:VEVENT
END:VCALENDAR