BEGIN:VCALENDAR
VERSION:2.0
PRODID:-//Aula Verlag - ECPv4.9.5//NONSGML v1.0//EN
CALSCALE:GREGORIAN
METHOD:PUBLISH
X-WR-CALNAME:Aula Verlag
X-ORIGINAL-URL:https://www.aula-verlag.de
X-WR-CALDESC:Veranstaltungen im Aula Verlag
BEGIN:VTIMEZONE
TZID:"Europe/Berlin"
BEGIN:DAYLIGHT
TZOFFSETFROM:+0100
TZOFFSETTO:+0200
TZNAME:CEST
DTSTART:20180325T010000
END:DAYLIGHT
BEGIN:STANDARD
TZOFFSETFROM:+0200
TZOFFSETTO:+0100
TZNAME:CET
DTSTART:20181028T010000
END:STANDARD
END:VTIMEZONE
BEGIN:VEVENT
DTSTART;VALUE=DATE:20180510
DTEND;VALUE=DATE:20180514
DTSTAMP:20260421T083545
CREATED:20170612T070922Z
LAST-MODIFIED:20180413T204844Z
UID:1748-1525910400-1526255999@www.aula-verlag.de
SUMMARY:20. Internationale Fürstenfelder Naturfototage
DESCRIPTION:Die Internationalen Fürstenfelder Naturfototage sind das größte Naturfoto-Festival in Europa. 2018 heißt das Thema „Projekt Tier“. Auch der AULA ist vor Ort und präsentiert sein vielseitiges Buchprogramm. Kommen Sie vorbei und informieren Sie sich! Wir freuen uns \n
URL:https://www.aula-verlag.de/event/22-gymwelt-kongress/
LOCATION:Fürstenfeldbruck\, Fürstenfeldbruck\, Deutschland
ATTACH;FMTTYPE=image/jpeg:https://www.aula-verlag.de/wp-content/uploads/2017/06/event1.jpg
END:VEVENT
END:VCALENDAR